BEGIN:VCALENDAR
VERSION:2.0
PRODID:-//eventon.com NONSGML v1.0//EN
CALSCALE:GREGORIAN
METHOD:PUBLISH
BEGIN:VEVENT
UID:69ecd54d89258
DTSTAMP:20260425T145301Z
DTSTART:20210910T190000Z
DTEND:20210910T235900Z
LOCATION:paradieskiosk sieber Siebertal 2\,  37412 Herzberg
SUMMARY:Wir machen doch nur Spaß!
DESCRIPTION:Wir machen doch nur Spaß! Die Impro-Sommer-Tour der Comedy-Com
 pany paradieskiosk sieber Siebertal 2 37412 Herzberg abends (schaut nochmal
  in der Tagespresse oder ruft an) Eintritt frei – gefördert duch den Lan
 dkreis-Corona-Fonds Wenn die Comedians auf die Bühne kommen\,  ohne zu wi
 ssen\,  was sie genau machen werden\,  dann hat das durchaus[..]\nhttps://c
 omedy-company.de/events/wir-machen-doch-nur-spass-15/
URL:https://comedy-company.de/events/wir-machen-doch-nur-spass-15/
END:VEVENT
END:VCALENDAR