BEGIN:VCALENDAR
VERSION:2.0
PRODID:-//eventon.com NONSGML v1.0//EN
CALSCALE:GREGORIAN
METHOD:PUBLISH
BEGIN:VEVENT
UID:69e5e4f06992a
DTSTAMP:20260420T083352Z
DTSTART:20211023T200000Z
DTEND:20211023T220000Z
LOCATION:Litteranova Wallstraße 12a\,  31134 Hildesheim
SUMMARY:Michael von Zalejski: Merci Udo! - Die Hommage an Udo Jürgens
DESCRIPTION:Merci Udo! – Die Hommage an Udo Jürgens Michael von Zalejski
  spielt und singt Udo Jürgens Litteranova Wallstraße 12a\,  31034 Hildesh
 eim Heute steht Michael von Zalejski wieder einmal mit seinem Solo-Programm
  auf der Bühne. Beginn: 20 Uhr Wenn Sie Michael von Zalejski auch einmal f
 ür eine Ihrer Veranstaltungen buchen möchten\, [..]\nhttps://comedy-compa
 ny.de/events/michael-von-zalejski-merci-udo-die-hommage-an-udo-juergens-6/
URL:https://comedy-company.de/events/michael-von-zalejski-merci-udo-die-hommage-an-udo-juergens-6/
END:VEVENT
END:VCALENDAR