BEGIN:VCALENDAR
VERSION:2.0
PRODID:-//eventon.com NONSGML v1.0//EN
CALSCALE:GREGORIAN
METHOD:PUBLISH
BEGIN:VEVENT
UID:69e73878cc43d
DTSTAMP:20260421T084232Z
DTSTART:20231005T180000Z
DTEND:20231005T215000Z
LOCATION:Marlene Prinzenstraße 10\,  30159 Hannover
SUMMARY:Michael von Zalejski: Merci Udo!
DESCRIPTION:Merci Udo! – Die Hommage an Udo Jürgens Michael von Zalejski
  spielt und singt Udo Jürgens in der Marlene\,  Prinzenstraße / Ecke Alex
 anderstraße\,  30159 Hannover\,  0511-3681687 Einlass und Abendkasse ab 19
  Uhr\,  Vorstellungsbeginn 20 Uhr. Michael von Zalejski präsentiert Lieder
  von Udo Jürgens am Klavier und kommt dabei seinem musikalischen[..]\nhttp
 s://comedy-company.de/events/michael-von-zalejski-merci-udo-14/
URL:https://comedy-company.de/events/michael-von-zalejski-merci-udo-14/
END:VEVENT
END:VCALENDAR